Workbook

Sheet A Singles Draw
A1: Bethany College Invitational Tournament September 8 & 9, 2023
C6: A Draw Singles
E9: ='A Singles Seeds'!B2 -> Maria Purizaca (DU)
D10: ='A Singles Seeds'!B9 -> Michaela Crowe (KW) | E10: Match #16 - SV | F10: Purizaca (DU)
C11: Castillo Paz (BC) | D11: Match #1 - SV | E11: Crowe (KW) | F11: 8-1
D12: ='A Singles Seeds'!B10 -> Sofia Castillo Paz (BC) | E12: 8-1 | F12: Match #38 - SV | G12: Purizaca (DU)
B13: Vangala (FH) | C13: Match #50 - SV | E13: ='A Singles Seeds'!B5 -> Shree Vangala (FH) | G13: 8-3
B14: 8-1 | D14: Vangala (FH) | E14: Match #17 - SV | F14: Tominaga (St)
C15: Vangala (FH) | D15: Match #32 - SV | E15: ='A Singles Seeds'!B6 -> Sofia Tominaga (St) | F15: 8-4
C16: 8-5 | D16: Margaritov (St)
D17: Loser Match #18 | G17: Singles A Draw Championship Match #64 - SV | H17: Purizaca (DU)
A18: Molano (CU) | B18: Match #73 - SV | H18: Singles A Draw Champion
A19: Draw A Consolation Winner | E19: ='A Singles Seeds'!B3 -> Renee Acena (CSM) | H19: 8-2
A20: 8-6 | D20: ='A Singles Seeds'!B8 -> Nadia Margaritov (St) | E20: Match #18 - SV | F20: Acena (CSM)
C21: Bye | E21: Nadia Margaritov (St) | F21: 8-3
D22: ='A Singles Seeds'!B11 -> Bye | F22: Match #39 - SV | G22: Acena (CSM)
B23: Molano (CU) | E23: ='A Singles Seeds'!B4 -> Irina Alfonso (FH) | G23: 9-8(4)
D24: Molano (CU) | E24: Match #19 - SV | F24: Alfonso (FH)
C25: Molano (CU) | D25: Match #33 - SV | E25: ='A Singles Seeds'!B7 -> Mariana Molano (CU) | F25: 8-5
C26: 8-0 | D26: Crowe (KW)
D27: Loser Match #16
G28: Tominaga (St)
G29: Loser Match #38
G30: 3rd Place Match Match #65 - SV | H30: Alfonso (FH)
H31: 8-5
G32: Alfonso (FH)
G33: Loser Match #39

Sheet A Singles Seeds
A1: Seeds | B1: Players
A2: 1 | B2: Maria Purizaca (DU)
A3: 2 | B3: Renee Acena (CSM)
A4: 3 | B4: Irina Alfonso (FH)
A5: 4 | B5: Shree Vangala (FH)
A6: 5 | B6: Sofia Tominaga (St)
A7: 6 | B7: Mariana Molano (CU)
A8: 7 | B8: Nadia Margaritov (St)
A9: 8 | B9: Michaela Crowe (KW)
A10: 9 | B10: Sofia Castillo Paz (BC)
A11: 10 | B11: Bye

Sheet B Singles Draw
A1: Bethany College Invitational Tournament September 8 & 9, 2023
B6: B Draw Singles
D9: ='B Singles Seeds'!B2 -> Fio Mendez (FH)
C10: Truong (CSM) | D10: Match #4 - SV | E10: Mendez (FH)
D11: ='B Singles Seeds'!B9 -> Carolyna Truong (CSM) | E11: 8-1
B12: Metro (BC) | C12: Match #42 - SV | E12: Match #40 - SV | F12: Stewart (TC)
B13: 8-1 | D13: ='B Singles Seeds'!B5 -> Tara Stewart (TC) | F13: 8-2
C14: Metro (BC) | D14: Match #5 - SV | E14: Stewart (TC)
D15: ='B Singles Seeds'!B6 -> Kyla Metro (BC) | E15: 8-2
A16: Metro (BC) | B16: Match #74 - SV | F16: Singles B Draw Championship Match #67 - SV | G16: Latorre (FH)
A17: Draw B Consolation Winner | D17: ='B Singles Seeds'!B3 -> Ines Latorre (FH) | G17: Singles B Draw Champion
A18: 8-1 | C18: Mistereck (BC) | D18: Match #6 - SV | E18: Latorre (FH) | G18: 8-2
D19: ='B Singles Seeds'!B8 -> Maria Mistereck (BC) | E19: 8-6
B20: Bagwell (KW) | C20: Match #43 - SV | E20: Match #41 - SV | F20: Latorre (FH)
B21: 8-4 | D21: ='B Singles Seeds'!B4 -> Alana Lopez-Pagan (CU) | F21: 8-5
C22: Bagwell (KW) | D22: Match #7 - SV | E22: Lopez-Pagan (CU)
D23: ='B Singles Seeds'!B7 -> Camrynn Bagwell (KW) | E23: 8-1
F25: Mendez (FH)
F26: Loser Match #40
F27: 3rd Place Match Match #68 - SV | G27: Mendez (FH)
G28: 8-2
F29: Lopez-Pagan (CU)
F30: Loser Match #41

Sheet B Singles Seeds
A1: Seeds | B1: Players
A2: 1 | B2: Fio Mendez (FH)
A3: 2 | B3: Ines Latorre (FH)
A4: 3 | B4: Alana Lopez-Pagan (CU)
A5: 4 | B5: Tara Stewart (TC)
A6: 5 | B6: Kyla Metro (BC)
A7: 6 | B7: Camrynn Bagwell (KW)
A8: 7 | B8: Maria Mistereck (BC)
A9: 8 | B9: Carolyna Truong (CSM)

Sheet C Singles Draw
A1: Bethany College Invitational Tournament September 8 & 9, 2023
C6: C Draw Singles
E9: ='C Singles Seeds'!B2 -> Grace Unruh (FH)
D10: ='C Singles Seeds'!B9 -> Alexa Richert (CU) | E10: Match #20 - SV | F10: Unruh (FH)
C11: Villa (TC) | D11: Match #2 - SV | E11: Richert (CU) | F11: 8-3
D12: ='C Singles Seeds'!B10 -> Ella Villa (TC) | E12: 8-4 | F12: Match #44 - SV | G12: Veile (BC)
B13: Evans (KW) | C13: Match #51 - SV | E13: ='C Singles Seeds'!B5 -> Mckinnley Evans (KW) | G13: 9-7
B14: 8-3 | D14: Evans (KW) | E14: Match #21 - SV | F14: Veile (BC)
C15: Evans (KW) | D15: Match #34 - SV | E15: ='C Singles Seeds'!B6 -> Abby Veile (BC) | F15: 8-2
C16: 45139 | D16: Swanson (CSM)
D17: Loser Match #22 | G17: Singles C Draw Championship Match #70 - SV | H17: Gill (FH)
A18: Marquez (BC) | B18: Match #75 - SV | H18: Singles C Draw Champion
A19: Draw C Consolation Winner | E19: ='C Singles Seeds'!B3 -> Ana Alvarez (St) | H19: 8-4
A20: 8-4 | D20: ='C Singles Seeds'!B8 -> Kylie Freudenberg (CU) | E20: Match #22 - SV | F20: Alvarez (St)
C21: Freudenberg (CU) | D21: Match #3 - SV | E21: Swanson (CSM) | F21: 8-0
D22: ='C Singles Seeds'!B11 -> Miranda Swanson (CSM) | E22: 8-3 | F22: Match #45 - SV | G22: Gill (FH)
B23: Marquez (BC) | C23: Match #52 - SV | E23: ='C Singles Seeds'!B4 -> Bethan Gill (FH) | G23: 8-1
B24: W/D | D24: Marquez (BC) | E24: Match #23 - SV | F24: Gill (FH)
C25: Marquez (BC) | D25: Match #35 - SV | E25: ='C Singles Seeds'!B7 -> Piper Marquez (BC) | F25: 8-2
C26: 8-1 | D26: Richert (CU)
D27: Loser Match #20
G28: Unruh (FH)
G29: Loser Match #44
G30: 3rd Place Match Match #71 - SV | H30: Unruh (FH)
H31: 8-4
G32: Alvarez (St)
G33: Loser Match #45

Sheet C Singles Seeds
A1: Seeds | B1: Players
A2: 1 | B2: Grace Unruh (FH)
A3: 2 | B3: Ana Alvarez (St)
A4: 3 | B4: Bethan Gill (FH)
A5: 4 | B5: Mckinnley Evans (KW)
A6: 5 | B6: Abby Veile (BC)
A7: 6 | B7: Piper Marquez (BC)
A8: 7 | B8: Kylie Freudenberg (CU)
A9: 8 | B9: Alexa Richert (CU)
A10: 9 | B10: Ella Villa (TC)
A11: 10 | B11: Miranda Swanson (CSM)

Sheet D Singles Draw
A1: Bethany College Invitational Tournament September 8 & 9, 2023
B6: D Draw Singles
D9: ='D Singles Seeds'!B2 -> Ines Steeman (FH)
C10: Steeman (FH) | D10: Match #8 - SV | E10: Heiser (CU)
D11: ='D Singles Seeds'!B9 -> Gabrielle Heiser (CU) | E11: 8-6
B12: Steeman (FH) | C12: Match #48 - SV | E12: Match #46 - SV | F12: Heiser (CU)
B13: 8-4 | D13: ='D Singles Seeds'!B5 -> Makenna Russom (BC) | F13: 8-6
C14: Russom (BC) | D14: Match #9 - SV | E14: Slack (KW)
D15: ='D Singles Seeds'!B6 -> Danielle Slack (KW) | E15: 8-4
A16: Steeman (FH) | B16: Match #78 - SV | F16: Singles D Draw Championship Match #76 - SV | G16: Sherer (KW)
A17: Draw D Consolation Winner | D17: ='D Singles Seeds'!B3 -> Rachel Carlson (St) | G17: Singles D Draw Champion
A18: 8-5 | C18: Carlson (St) | D18: Match #10 - SV | E18: Schroller (DU) | G18: 8-5
D19: ='D Singles Seeds'!B8 -> Grace Schroller (DU) | E19: 8-4
B20: Carlson (St) | C20: Match #49 - SV | E20: Match #47 - SV | F20: Sherer (KW)
B21: 8-5 | D21: ='D Singles Seeds'!B4 -> Alivia Sherer (KW) | F21: 8-4
C22: Gregory (BC) | D22: Match #11 - SV | E22: Sherer (KW)
D23: ='D Singles Seeds'!B7 -> Tia Gregory (BC) | E23: 8-1
F25: Slack (KW)
F26: Loser Match #46
F27: 3rd Place Match Match #77 - SV | G27: Slack (KW)
G28: 8-6
F29: Schroller (DU)
F30: Loser Match #47

Sheet D Singles Seeds
A1: Seeds | B1: Players
A2: 1 | B2: Ines Steeman (FH)
A3: 2 | B3: Rachel Carlson (St)
A4: 3 | B4: Alivia Sherer (KW)
A5: 4 | B5: Makenna Russom (BC)
A6: 5 | B6: Danielle Slack (KW)
A7: 6 | B7: Tia Gregory (BC)
A8: 7 | B8: Grace Schroller (DU)
A9: 8 | B9: Gabrielle Heiser (CU)

Sheet E Singles Draw
A1: Bethany College Invitational Tournament September 8 & 9, 2023
C6: E Draw Singles
E9: ='E Singles Seeds'!B2 -> Hope Lubbers (FH)
D10: ='E Singles Seeds'!B9 -> Bye | E10: Match #24 - SV | F10: McGrown (KW)
C11: Bye | E11: Kira McGrown (KW) | F11: 8-1
D12: ='E Singles Seeds'!B10 -> Kira McGrown (KW) | F12: Match #53 - SV | G12: McGrown (KW)
B13: Hosick (CU) | C13: Match #55 - SV | E13: ='E Singles Seeds'!B5 -> Katie Classen (TC) | G13: Def.
D14: Classen (TC) | E14: Match #25 - SV | F14: Reichenberger (BC)
C15: Hosick (CU) | D15: Match #36 - SV | E15: ='E Singles Seeds'!B6 -> Kami Reichenberger (BC) | F15: 8-2
C16: 8-3 | D16: Hosick (CU)
D17: Loser Match #26 | G17: Singles E Draw Championship Match #79 - SV | H17: Kuhn (St)
A18: Ho. Lubbers (FH) | B18: Match #81 - SV | H18: Singles E Draw Champion
A19: Draw E Consolation Winner | E19: ='E Singles Seeds'!B3 -> Brooklynn Kuhn (St) | H19: 8-0
A20: 8-4 | D20: ='E Singles Seeds'!B8 -> Brooke Hosick (CU) | E20: Match #26 - SV | F20: Kuhn (St)
C21: Bye | E21: Brooke Hosick (CU) | F21: 8-6
D22: ='E Singles Seeds'!B11 -> Bye | F22: Match #54 - SV | G22: Kuhn (St)
B23: Ho. Lubbers (FH) | E23: ='E Singles Seeds'!B4 -> Karee Adam (BC) | G23: 8-4
D24: Adam (BC) | E24: Match #27 - SV | F24: Schwarzkopf (DU)
C25: Ho. Lubbers (FH) | D25: Match #37 - SV | E25: ='E Singles Seeds'!B7 -> Cierra Schwarzkopf (DU) | F25: 8-4
C26: 8-3 | D26: Ho. Lubbers (FH)
D27: Loser Match #24
G28: Reichenberger (BC)
G29: Loser Match #53
G30: 3rd Place Match Match #80 - SV | H30: Schwarzkopf (DU)
H31: Def
G32: Schwarzkopf (DU)
G33: Loser Match #54

Sheet E Singles Seeds
A1: Seeds | B1: Players
A2: 1 | B2: Hope Lubbers (FH)
A3: 2 | B3: Brooklynn Kuhn (St)
A4: 3 | B4: Karee Adam (BC)
A5: 4 | B5: Katie Classen (TC)
A6: 5 | B6: Kami Reichenberger (BC)
A7: 6 | B7: Cierra Schwarzkopf (DU)
A8: 7 | B8: Brooke Hosick (CU)
A9: 8 | B9: Bye
A10: 9 | B10: Kira McGrown (KW)
A11: 10 | B11: Bye

Sheet F Singles Draw
A1: Bethany College Invitational Tournament September 8 & 9, 2023
B6: F Draw Singles
D9: ='F Singles Seeds'!B2 -> Camila Castro (St)
C10: Van Aucken (CSM) | D10: Match #12 - SV | E10: Castro (St)
D11: ='F Singles Seeds'!B9 -> Darece Van Aucken (CSM) | E11: 8-3
B12: Gottberg (CU) | C12: Match #58 - SV | E12: Match #56 - SV | F12: Castro (St)
B13: 8-4 | D13: ='F Singles Seeds'!B5 -> Ella McNett (BC) | F13: 8-6
C14: Gottberg (CU) | D14: Match #13 - SV | E14: McNett (BC)
D15: ='F Singles Seeds'!B6 -> Lauren Gottberg (CU) | E15: 8-4
A16: Gottberg (CU) | B16: Match #85 - SV | F16: Singles F Draw Championship Match #83 - SV | G16: Castro (St)
A17: Draw F Consolation Winner | D17: ='F Singles Seeds'!B3 -> Heidi Lubbers (FH) | G17: Singles F Draw Champion
A18: 8-0 | C18: Badger (CU) | D18: Match #14 - SV | E18: He. Lubbers (FH) | G18: 8-5
D19: ='F Singles Seeds'!B8 -> Teya Badger (CU) | E19: 8-3
B20: Badger (CU) | C20: Match #59 - SV | E20: Match #57 - SV | F20: He. Lubbers (FH)
B21: 8-4 | D21: ='F Singles Seeds'!B4 -> Sara Brunk (TC) | F21: 8-0
C22: Brunk (TC) | D22: Match #15 - SV | E22: Blount (KW)
D23: ='F Singles Seeds'!B7 -> Reagan Blount (KW) | E23: 8-3
F25: McNett (BC)
F26: Loser Match #56
F27: 3rd Place Match Match #84 - SV | G27: McNett (BC)
G28: Def
F29: Blount (KW)
F30: Loser Match #57

Sheet F Singles Seeds
A1: Seeds | B1: Players
A2: 1 | B2: Camila Castro (St)
A3: 2 | B3: Heidi Lubbers (FH)
A4: 3 | B4: Sara Brunk (TC)
A5: 4 | B5: Ella McNett (BC)
A6: 5 | B6: Lauren Gottberg (CU)
A7: 6 | B7: Reagan Blount (KW)
A8: 7 | B8: Teya Badger (CU)
A9: 8 | B9: Darece Van Aucken (CSM)

Sheet G Singles Draw
A1: Bethany College Invitational Tournament September 8 & 9, 2023
B6: G Draw Singles
D9: ='G Singles Seeds'!B2 -> Elizabeth Sneed (St)
C10: Wellbrock (BC) | D10: Match #28 - SV | E10: Sneed (St)
D11: ='G Singles Seeds'!B9 -> MaKenna Wellbrock (BC) | E11: 8-4
B12: Hurst (DU) | C12: Match #62 - SV | E12: Match #60 - SV | F12: Wrye (KW)
B13: 3-1 Inj. W/D | D13: ='G Singles Seeds'!B5 -> Kaitlyn Wrye (KW) | F13: 8-0
C14: Hurst (DU) | D14: Match #29 - SV | E14: Wrye (KW)
D15: ='G Singles Seeds'!B6 -> Sofia Hurst (DU) | E15: 8-2
A16: Hurst (DU) | B16: Match #89 - SV | F16: Singles G Draw Championship Match #87 - SV | G16: Wrye (KW)
A17: Draw G Consolation Winner | D17: ='G Singles Seeds'!B3 -> Bonita Sitoula (TC) | G17: Singles G Draw Champion
A18: 8-2 | C18: Martinez (CSM) | D18: Match #30 - SV | E18: Sitoula (TC) | G18: 8-4
D19: ='G Singles Seeds'!B8 -> Pamela Martinez (CSM) | E19: 8-2
B20: Ahlstedt (BC) | C20: Match #63 - SV | E20: Match #61 - SV | F20: Golka (CU)
B21: 8-3 | D21: ='G Singles Seeds'!B4 -> Riley Ahlstedt (BC) | F21: 8-3
C22: Ahlstedt (BC) | D22: Match #31 - SV | E22: Golka (CU)
D23: ='G Singles Seeds'!B7 -> Mia Golka (CU) | E23: 8-2
F25: Sneed (St)
F26: Loser Match #60
F27: 3rd Place Match Match #88 - SV | G27: Sneed (St)
G28: 8-0
F29: Sitoula (TC)
F30: Loser Match #61

Sheet G Singles Seeds
A1: Seeds | B1: Players
A2: 1 | B2: Elizabeth Sneed (St)
A3: 2 | B3: Bonita Sitoula (TC)
A4: 3 | B4: Riley Ahlstedt (BC)
A5: 4 | B5: Kaitlyn Wrye (KW)
A6: 5 | B6: Sofia Hurst (DU)
A7: 6 | B7: Mia Golka (CU)
A8: 7 | B8: Pamela Martinez (CSM)
A9: 8 | B9: MaKenna Wellbrock (BC)

Sheet A Doubles Draw
A1: Bethany College Invitational Tournament September 8 & 9, 2023
C6: A Draw Doubles
E9: ='A Doubles Seeds'!B2 -> Vangala/Latorre (FH)
D10: ='A Doubles Seeds'!B9 -> Crowe/Bagwell (KW) | E10: Match #13 - SV | F10: Vangala/Latorre (FH)
C11: Mistereck/Castillo (BC) | D11: Match #1 - SV | E11: Crowe/Bagwell (KW) | F11: 8-2
D12: ='A Doubles Seeds'!B10 -> Mistereck/Castillo (BC) | E12: 8-2 | F12: Match #25 - SV | G12: Vangala/Latorre (FH)
B13: Tominaga/Alvarez (St) | C13: Match #31 - SV | E13: ='A Doubles Seeds'!B5 -> Blough/Molano (CU) | G13: 8-2
B14: 8-4 | D14: Tominaga/Alvarez (St) | E14: Match #9 - SV | F14: Blough/Molano (CU)
C15: Tominaga/Alvarez (St) | D15: Match #21 - SV | E15: ='A Doubles Seeds'!B6 -> Tominaga/Alvarez (St) | F15: 9-8(5)
C16: 8-3 | D16: Margaritov/Carlson (St)
D17: Loser Match #14 | G17: Doubles A Draw Championship Match #37 - SV | H17: Alfonso/Mendez (FH)
B18: Match #41 - SV | H18: Draw A Champions
A19: Draw A Consolation Winner | E19: ='A Doubles Seeds'!B3 -> Alfonso/Mendez (FH) | H19: 6-0
D20: ='A Doubles Seeds'!B8 -> Margaritov/Carlson (St) | E20: Match #14 - SV | F20: Alfonso/Mendez (FH)
C21: Evans/Slack (KW) | D21: Match #2 - SV | E21: Margaritov/Carlson (St) | F21: 8-1
D22: ='A Doubles Seeds'!B11 -> Evans/Slack (KW) | E22: 8-3 | F22: Match #26 - SV | G22: Alfonso/Mendez (FH)
B23: Metro/Veile (BC) | C23: Match #32 - SV | E23: ='A Doubles Seeds'!B4 -> Purizaca/Schroller (DU) | G23: 8-0
B24: 8-2 | D24: Metro/Veile (BC) | E24: Match #10 - SV | F24: Purizaca/Schroller (DU)
C25: Metro/Veile (BC) | D25: Match #22 - SV | E25: ='A Doubles Seeds'!B7 -> Metro/Veile (BC) | F25: 8-2
C26: 8-4 | D26: Crowe/Bagwell (KW)
D27: Loser Match #13
G28: Blough/Molano (CU)
G29: Loser Match #18
G30: 3rd Place Match Match #38 - SV | H30: Purizaca/Schroller (DU)
H31: 9-8(4)
G32: Purizaca/Schroller (DU)
G33: Loser Match #19

Sheet A Doubles Seeds
A1: Seeds | B1: Players
A2: 1 | B2: Vangala/Latorre (FH)
A3: 2 | B3: Alfonso/Mendez (FH)
A4: 3 | B4: Purizaca/Schroller (DU)
A5: 4 | B5: Blough/Molano (CU)
A6: 5 | B6: Tominaga/Alvarez (St)
A7: 6 | B7: Metro/Veile (BC)
A8: 7 | B8: Margaritov/Carlson (St)
A9: 8 | B9: Crowe/Bagwell (KW)
A10: 9 | B10: Mistereck/Castillo (BC)
A11: 10 | B11: Evans/Slack (KW)

Sheet B Doubles Draw
A1: Bethany College Invitational Tournament September 8 & 9, 2023
C6: B Draw Doubles
E9: ='B Doubles Seeds'!B2 -> Unruh/Gill (FH)
D10: ='B Doubles Seeds'!B9 -> Camp/ Wrye (KW) | E10: Match #15 - SV | F10: Unruh/Gill (FH)
C11: Freudenberg/Badger (CU) | D11: Match #3 - SV | E11: Camp/Wrye (KW) | F11: 8-1
D12: ='B Doubles Seeds'!B10 -> Freudenberg/Badger(CU) | E12: 9-7 | F12: Match #27 - SV | G12: Unruh/Gill (FH)
B13: Marquez/Gregory (BC) | C13: Match #33 - SV | E13: ='B Doubles Seeds'!B5 -> Marquez/Gregory (BC) | G13: 8-0
B14: 8-2 | D14: Marquez/Gregory (BC) | E14: Match #11 - SV | F14: Stewart/Villa (TC)
C15: Marquez/Gregory (BC) | D15: Match #23 - SV | E15: ='B Doubles Seeds'!B6 -> Stewart/Villa (TC) | F15: 9-7
C16: 8-4 | D16: Steeman/Hope Lubbers (FH)
D17: Loser Match #16 | G17: Doubles B Draw Championship Match #39 - SV | H17: Uhruh/Gill (FH)
B18: Match #42 - SV | H18: Draw B Champions
A19: Draw B Consolation Winner | E19: ='B Doubles Seeds'!B3 -> Steeman/Hope Lubbers (FH) | H19: 8-2
D20: ='B Doubles Seeds'!B8 -> Adam/Russom (BC) | E20: Match #16 - SV | F20: Kuhn/Sneed (St)
C21: Adam/Russom (BC) | D21: Match #4 - SV | E21: Kuhn/Sneed (St) | F21: 8-4
D22: ='B Doubles Seeds'!B11 -> Kuhn/Sneed (St) | E22: 8-3 | F22: Match #28 - SV | G22: Lopez-Pagan/Heiser (CU)
B23: Adam/Russom (BC) | C23: Match #34 - SV | E23: ='B Doubles Seeds'!B4 -> Henderson/Sherer (KW) | G23: 8-0
B24: 8-6 | D24: Henderson/Sherer (KW) | E24: Match #12 - SV | F24: Lopez-Pagan/Heiser (CU)
C25: Henderson/Sherer (KW) | D25: Match #24 - SV | E25: ='B Doubles Seeds'!B7 -> Lopez-Pagan/Heiser(CU) | F25: 9-7
C26: 8-4 | D26: Camp/Wrye (KW)
D27: Loser Match #15
G28: Stewart/Villa (TC)
G29: Loser Match #24
G30: 3rd Place Match Match #40 - SV
G32: Kuhn/Sneed (St)
G33: Loser Match #25

Sheet B Doubles Seeds
A1: Seeds | B1: Players
A2: 1 | B2: Unruh/Gill (FH)
A3: 2 | B3: Steeman/Hope Lubbers (FH)
A4: 3 | B4: Henderson/Sherer (KW)
A5: 4 | B5: Marquez/Gregory (BC)
A6: 5 | B6: Stewart/Villa (TC)
A7: 6 | B7: Lopez-Pagan/Heiser(CU)
A8: 7 | B8: Adam/Russom (BC)
A9: 8 | B9: Camp/ Wrye (KW)
A10: 9 | B10: Freudenberg/Badger(CU)
A11: 10 | B11: Kuhn/Sneed (St)

Sheet C Doubles Draw
A1: Bethany College Invitational Tournament September 8 & 9, 2023
B6: C Draw Doubles
D9: ='C Doubles Seeds'!B2 -> Brunk/Classen (TC)
C10: Brunk/Classen (TC) | D10: Match #5 - SV | E10: Reichenberger/Wellbrock (BC)
D11: ='C Doubles Seeds'!B9 -> Reichenberger/Wellbrock (BC) | E11: 8-6
B12: Golka/Richert (CU) | C12: Match #19 - SV | E12: Match #17 - SV | F12: Lane/Meredith (KW)
B13: 9-8(5) | D13: ='C Doubles Seeds'!B5 -> Lane/Meredith (KW) | F13: 9-7
C14: Golka/Richert (CU) | D14: Match #6 - SV | E14: Lane/Meredith (KW)
D15: ='C Doubles Seeds'!B6 -> Golka/Richert (CU) | E15: 8-3
B16: Match #35 - SV | F16: Doubles C Draw Championship Match #29 - SV | G16: Lane/Meredith (KW)
A17: Draw C Consolation Winners | D17: ='C Doubles Seeds'!B3 -> Gottberg/Hosick (CU) | G17: Draw C Champions
C18: Schwarzkopf/Hurst (DU) | D18: Match #7 - SV | E18: Gottberg/Hosick (CU) | G18: 8-2
D19: ='C Doubles Seeds'!B8 -> Schwarzkopf/Hurst (DU) | E19: 8-3
B20: Schwarzkopf/Hurts (DU) | C20: Match #20 - SV | E20: Match #18 - SV | F20: Ahlstedt/McNett (BC)
D21: ='C Doubles Seeds'!B4 -> Ahlstedt/McNett (BC) | F21: 8-6
C22: Bonner/Myers (KW) | D22: Match #8 - SV | E22: Ahlstedt/McNett (BC)
D23: ='C Doubles Seeds'!B7 -> Bonner/Myers (KW) | E23: 8-6
F25: Reichenberg/Wellbrock (BC)
B26: Loser Match #19 | F26: Loser Match #17
B27: Match #36 - SV | F27: 3rd Place Match Match #30 - SV | G27: Gottberg/Hosick (CU)
G28: 8-4
F29: Gottberg/Hosick (CU)
B30: Loser Match #20 | F30: Loser Match #18

Sheet C Doubles Seeds
A1: Seeds | B1: Players
A2: 1 | B2: Brunk/Classen (TC)
A3: 2 | B3: Gottberg/Hosick (CU)
A4: 3 | B4: Ahlstedt/McNett (BC)
A5: 4 | B5: Lane/Meredith (KW)
A6: 5 | B6: Golka/Richert (CU)
A7: 6 | B7: Bonner/Myers (KW)
A8: 7 | B8: Schwarzkopf/Hurst (DU)
A9: 8 | B9: Reichenberger/Wellbrock (BC)

Sheet 12 Entry Draw Template
B1: Bethany College Invitational September 10, 2022
E6: Draw X
E9: Loser B | G9: ='B Singles Seeds'!B2 -> Fio Mendez (FH)
F10: ='B Singles Seeds'!B9 -> Carolyna Truong (CSM)
G11: (A)
F12: ='B Singles Seeds'!B10 -> 0
E13: Loser C | G13: ='B Singles Seeds'!B5 -> Tara Stewart (TC)
F14: ='B Singles Seeds'!B6 -> Kyla Metro (BC)
G15: (D)
F16: ='B Singles Seeds'!B13 -> 0
I17: Draw X Championship
B18: Draw X Consolation Winner | J18: Draw X Champion
E19: Loser A | G19: ='B Singles Seeds'!B3 -> Ines Latorre (FH)
F20: ='B Singles Seeds'!B8 -> Maria Mistereck (BC)
G21: (B)
F22: ='B Singles Seeds'!B11 -> 0
E23: Loser D | G23: ='B Singles Seeds'!B4 -> Alana Lopez-Pagan (CU)
F24: ='B Singles Seeds'!B7 -> Camrynn Bagwell (KW)
G25: (C)
F26: ='B Singles Seeds'!B12 -> 0
I29: Loser Match
I30: 3rd Place Match
I33: Loser Match

Sheet 10 Entry Draw Template
B1: Bethany College Invitational September 10, 2022
D6: Draw X
F9: ='B Singles Seeds'!B2 -> Fio Mendez (FH)
E10: ='B Singles Seeds'!B9 -> Carolyna Truong (CSM)
F11: (A)
E12: ='B Singles Seeds'!B10 -> 0 | G12: Match X
F13: ='B Singles Seeds'!B5 -> Tara Stewart (TC)
F15: ='B Singles Seeds'!B6 -> Kyla Metro (BC)
E16: Loser B
H17: Draw X Championship
I18: Draw X Champion
B19: Draw X Consolation Winner | F19: ='B Singles Seeds'!B3 -> Ines Latorre (FH)
E20: ='B Singles Seeds'!B8 -> Maria Mistereck (BC)
F21: (B)
E22: ='B Singles Seeds'!B11 -> 0 | G22: Match Y
F23: ='B Singles Seeds'!B4 -> Alana Lopez-Pagan (CU)
F25: ='B Singles Seeds'!B7 -> Camrynn Bagwell (KW)
E26: Loser A
H29: Loser Match X
H30: 3rd Place Match
H33: Loser Match Y

Sheet 8 Entry Draw Template
B1: Bethany College Invitational September 10, 2022
E6: Draw X
E9: ='A Singles Seeds'!B2 -> Maria Purizaca (DU)
E11: ='A Singles Seeds'!B9 -> Michaela Crowe (KW)
F12: Match X
E13: ='A Singles Seeds'!B5 -> Shree Vangala (FH)
E15: ='A Singles Seeds'!B6 -> Sofia Tominaga (St)
G16: Draw X Championship
B17: Draw X Consolation Winner | E17: ='A Singles Seeds'!B3 -> Renee Acena (CSM) | H17: Draw X Champion
E19: ='A Singles Seeds'!B8 -> Nadia Margaritov (St)
F20: Match Y
E21: ='A Singles Seeds'!B4 -> Irina Alfonso (FH)
E23: ='A Singles Seeds'!B7 -> Mariana Molano (CU)
G26: Loser Match X
G27: 3rd Place Match
G30: Loser Match Y
