Workbook

Sheet A Singles Draw
A1: Bethany College Invitational Tournament September 8 & 9, 2023
B6: A Draw Singles
D9: ='A Singles Seeds'!B2 -> Bryce Ware (KW)
C10: Fuentes Gomez (CU) | D10: Match #3 - College | E10: Ware (KW)
D11: ='A Singles Seeds'!B9 -> Hugo Fuentes Gomez (CU) | E11: 8-1
B12: Fuentes Gomez (CU) | C12: Match #31 - College | E12: Match #29 - College | F12: Ware (KW)
B13: 8-5 | D13: ='A Singles Seeds'!B5 -> Antonio Parades (St) | F13: 8-3
C14: Infante (DU) | D14: Match #4 - College | E14: Parades (St)
D15: ='A Singles Seeds'!B6 -> Federico Infante (DU) | E15: 8-3
A16: Fuentes Gomez (CU) | B16: Match #54 - College | F16: Singles A Draw Championship Match #66 - SV | G16: Ware (KW)
A17: Draw A Consolation Winner | D17: ='A Singles Seeds'!B3 -> Alex Sherer (KW) | G17: Singles A Draw Champion
A18: 8-3 | C18: Fort (TC) | D18: Match #5 - College | E18: Sherer (KW) | G18: 8-1
D19: ='A Singles Seeds'!B8 -> J.P.Fort (TC) | E19: 8-2
B20: Fort (TC) | C20: Match #32 - College | E20: Match #30 - College | F20: Gutierrez (DU)
B21: 8-3 | D21: ='A Singles Seeds'!B4 -> Esteban Gutierrez (DU) | F21: 9-7
C22: Hernandez (BC) | D22: Match #6 - College | E22: Gutierrez (DU)
D23: ='A Singles Seeds'!B7 -> Franco Hernandez (BC) | E23: 8-4
F25: Parades (St)
F26: Loser Match #29
F27: 3rd Place Match Match #53 - College | G27: Parades (St)
G28: W/D
F29: Sherer (KW)
F30: Loser Match #30

Sheet A Singles Seeds
A1: Seeds | B1: Players
A2: 1 | B2: Bryce Ware (KW)
A3: 2 | B3: Alex Sherer (KW)
A4: 3 | B4: Esteban Gutierrez (DU)
A5: 4 | B5: Antonio Parades (St)
A6: 5 | B6: Federico Infante (DU)
A7: 6 | B7: Franco Hernandez (BC)
A8: 7 | B8: J.P.Fort (TC)
A9: 8 | B9: Hugo Fuentes Gomez (CU)

Sheet B Singles Draw
A1: Bethany College Invitational Tournament September 8 & 9, 2023
B6: B Draw Singles
D9: ='B Singles Seeds'!B2 -> Raul Davalos (KW)
C10: Osuga (TC) | D10: Match #7 - College | E10: Davalos (KW)
D11: ='B Singles Seeds'!B9 -> Ko Osuga (TC) | E11: 8-6
B12: Osuga (TC) | C12: Match #35 - College | E12: Match #33 - College | F12: Davalos (KW)
B13: 8-5 | D13: ='B Singles Seeds'!B5 -> Santiago Abadia Arango (CU) | F13: 8-5
C14: Lozano (BC) | D14: Match #8 -College | E14: Adabia Arango (CU)
D15: ='B Singles Seeds'!B6 -> Daniel Lozano (BC) | E15: 8-3
A16: Hanson (KW) | B16: Match #56 - College | F16: Singles B Draw Championship Match #69 - SV | G16: Purizaka (DU)
A17: Draw B Consolation Winner | D17: ='B Singles Seeds'!B3 -> Jose Purizaca (DU) | G17: Singles B Draw Champion
A18: 8-4 | C18: Mumford (BC) | D18: Match #9 - College | E18: Purizaca (DU) | G18: 8-3
D19: ='B Singles Seeds'!B8 -> Zeke Mumford (BC) | E19: 8-1
B20: Hanson (KW) | C20: Match #36 - College | E20: Match #34 - College | F20: Purizaca (DU)
B21: W/D | D21: ='B Singles Seeds'!B4 -> Pedro Felipoff( St) | F21: 8-4
C22: Hanson (KW) | D22: Match #10 - College | E22: Felipoff (St)
D23: ='B Singles Seeds'!B7 -> Adam Hanson (KW) | E23: 8-4
F25: Adabia Arango (CU)
F26: Loser Match #33
F27: 3rd Place Match Match #55 - College | G27: Felipoff (St)
G28: W/D
F29: Felipoff (St)
F30: Loser Match #34

Sheet B Singles Seeds
A1: Seeds | B1: Players
A2: 1 | B2: Raul Davalos (KW)
A3: 2 | B3: Jose Purizaca (DU)
A4: 3 | B4: Pedro Felipoff( St)
A5: 4 | B5: Santiago Abadia Arango (CU)
A6: 5 | B6: Daniel Lozano (BC)
A7: 6 | B7: Adam Hanson (KW)
A8: 7 | B8: Zeke Mumford (BC)
A9: 8 | B9: Ko Osuga (TC)

Sheet C Singles Draw
A1: Bethany College Invitational Tournament September 8 & 9, 2023
C6: C Draw Singles
E9: ='C Singles Seeds'!B2 -> Andre Hartman (DU)
D10: ='C Singles Seeds'!B9 -> Stephano Chan (TC) | E10: Match #14 - College | F10: Chan (TC)
C11: Bye | D11: Match #1 - College | E11: Chan (TC) | F11: 8-0
D12: ='C Singles Seeds'!B10 -> Bye | E12: Match A | F12: Match #39 - College | G12: Chan (TC)
B13: Rodriguez (CU) | C13: Match #41 - College | E13: ='C Singles Seeds'!B5 -> Michael Bedrosian (CU) | G13: 8-6
D14: Bedrosian (CU) | E14: Match #11 - College | F14: Martini (KW)
C15: Rodriguez (CU) | D15: Match #27 - College | E15: ='C Singles Seeds'!B6 -> Paulo Martini (KW) | F15: 8-6
C16: 8-4 | D16: Rodriguez (CU)
D17: Loser Match #12 | G17: Singles C Draw Championship Match #72 - SV | H17: Chan (TC)
A18: Rodriguez (CU) | B18: Match #58 - College | H18: Singles C Draw Champion
A19: Draw C Consolation Winner | E19: ='C Singles Seeds'!B3 -> Manuel Rodriguez (CU) | H19: 8-5
A20: 8-4 | D20: ='C Singles Seeds'!B8 -> Alejandro Rico Moran (BC) | E20: Match #12 - College | F20: Rico Moran (BC)
C21: Bye | E21: Alejandro Rico Moran (BC) | F21: 8-3
D22: ='C Singles Seeds'!B11 -> Bye | F22: Match #40 - College | G22: Marin (St)
B23: Craft (KW) | E23: ='C Singles Seeds'!B4 -> Angel Marin (St) | G23: 8-4
D24: Craft (KW) | E24: Match #13 - College | F24: Marin (St)
C25: Craft (KW) | D25: Match #28 - College | E25: ='C Singles Seeds'!B7 -> Luke Craft (KW) | F25: 9-8(5)
C26: 9-8(1) | D26: Hartman (DU)
D27: Loser Match #14
G28: Martini (KW)
G29: Loser Match #39
G30: 3rd Place Match Match #57 - College | H30: Rico Moran (BC)
H31: 8-4
G32: Rico Moran (BC)
G33: Loser Match #40

Sheet C Singles Seeds
A1: Seeds | B1: Players
A2: 1 | B2: Andre Hartman (DU)
A3: 2 | B3: Manuel Rodriguez (CU)
A4: 3 | B4: Angel Marin (St)
A5: 4 | B5: Michael Bedrosian (CU)
A6: 5 | B6: Paulo Martini (KW)
A7: 6 | B7: Luke Craft (KW)
A8: 7 | B8: Alejandro Rico Moran (BC)
A9: 8 | B9: Stephano Chan (TC)
A10: 9 | B10: Bye
A11: 10 | B11: Bye

Sheet D Singles Draw
A1: Bethany College Invitational Tournament September 8 & 9, 2023
B6: D Draw Singles
D9: ='D Singles Seeds'!B2 -> Donat Beke (DU)
C10: Hanson (KW) | D10: Match #15 - College | E10: Beke (DU)
D11: ='D Singles Seeds'!B9 -> Jack Hanson (KW) | E11: 8-4
B12: Goertzen (TC) | C12: Match #44 - College | E12: Match #42 - College | F12: Hash (St)
B13: 8-4 | D13: ='D Singles Seeds'!B5 -> Jake Goertzen (TC) | F13: 8-4
C14: Goertzen (TC) | D14: Match #16 - College | E14: Hash (St)
D15: ='D Singles Seeds'!B6 -> Zack Hash (St) | E15: 8-5
A16: Quintero (St) | B16: Match #60 - College | F16: Singles D Draw Championship Match #78 - SV | G16: Hash (St)
A17: Draw D Consolation Winner | D17: ='D Singles Seeds'!B3 -> Elliot Dassel (DU) | G17: Singles D Draw Champion
A18: 9-7 | C18: Quintero (St) | D18: Match #17 - College | E18: Dassel (DU) | G18: 9-7
D19: ='D Singles Seeds'!B8 -> Santiago Quintero (St) | E19: 9-8(1)
B20: Quintero (St) | C20: Match #45 - College | E20: Match #43 - College | F20: Dassel (DU)
B21: 8-2 | D21: ='D Singles Seeds'!B4 -> Brandon Sherman (KW) | F21: 8-0
C22: Johnson (CU) | D22: Match #18 - College | E22: Sherman (KW)
D23: ='D Singles Seeds'!B7 -> Luke Johnson (CU) | E23: 8-3
F25: Beke (DU)
F26: Loser Match #42
F27: 3rd Place Match Match #59 - College | G27: Beke (DU)
G28: W/D
F29: Sherman (KW)
F30: Loser Match #43

Sheet D Singles Seeds
A1: Seeds | B1: Players
A2: 1 | B2: Donat Beke (DU)
A3: 2 | B3: Elliot Dassel (DU)
A4: 3 | B4: Brandon Sherman (KW)
A5: 4 | B5: Jake Goertzen (TC)
A6: 5 | B6: Zack Hash (St)
A7: 6 | B7: Luke Johnson (CU)
A8: 7 | B8: Santiago Quintero (St)
A9: 8 | B9: Jack Hanson (KW)

Sheet E Singles Draw
A1: Bethany College Invitational Tournament September 8 & 9, 2023
B6: E Draw Singles
D9: ='E Singles Seeds'!B2 -> Josh Grosvenor (DU)
C10: Grosvenor (DU) | D10: Match #19 - College | E10: Wise (KW)
D11: ='E Singles Seeds'!B9 -> Andrew Wise (KW) | E11: 8-3
B12: Grosvenor (DU) | C12: Match #48 - College | E12: Match #46 - College | F12: Wise (KW)
D13: ='E Singles Seeds'!B5 -> Kohen Munson (BC) | F13: 8-3
C14: Bye | D14: Match #20 - College | E14: Munson (BC)
D15: ='E Singles Seeds'!B6 -> Bye
A16: Krumm (CU) | B16: Match #62 - College | F16: Singles E Draw Championship Match #82 - SV | G16: Chavez (KW)
A17: Draw E Consolation Winner | D17: ='E Singles Seeds'!B3 -> Mitch Krumm (CU) | G17: Singles E Draw Champion
A18: 8-0 | C18: Krumm (CU) | D18: Match #21 - College | E18: Chavez (KW) | G18: 8-4
D19: ='E Singles Seeds'!B8 -> Gavin Chavez (KW) | E19: 8-6
B20: Krumm (CU) | C20: Match #49 - College | E20: Match #47 - College | F20: Chavez (KW)
D21: ='E Singles Seeds'!B4 -> Jayce Blede (St) | F21: 8-6
C22: Bye | D22: Match #22 - College | E22: Blede (St)
D23: ='E Singles Seeds'!B7 -> Bye
F25: Munson (BC)
F26: Loser Match #46
F27: 3rd Place Match Match #61 - College | G27: Blede (St)
G28: 8-1
F29: Blede (St)
F30: Loser Match #47

Sheet E Singles Seeds
A1: Seeds | B1: Players
A2: 1 | B2: Josh Grosvenor (DU)
A3: 2 | B3: Mitch Krumm (CU)
A4: 3 | B4: Jayce Blede (St)
A5: 4 | B5: Kohen Munson (BC)
A6: 5 | B6: Bye
A7: 6 | B7: Bye
A8: 7 | B8: Gavin Chavez (KW)
A9: 8 | B9: Andrew Wise (KW)

Sheet F Singles Draw
A1: Bethany College Invitational Tournament September 8 & 9, 2023
C6: F Draw Singles
E9: ='F Singles Seeds'!B2 -> Kanran Jones (St)
D10: ='F Singles Seeds'!B9 -> Theo Jones (DU) | E10: Match #23 - College | F10: Jones (St)
C11: Jones (DU) | D11: Match #2 - College | E11: Brown (TC) | F11: 8-5
D12: ='F Singles Seeds'!B10 -> Hudson Brown (TC) | E12: 8-0 | F12: Match #50 - College | G12: Jones (St)
B13: Campbell (BC) | C13: Match #52 - College | E13: ='F Singles Seeds'!B5 -> Amare Campbell (BC) | G13: 8-4
B14: 45139 | D14: Campbell (BC) | E14: Match #24 - College | F14: Phinney (CU)
C15: Campbell (BC) | D15: Match #37 - College | E15: ='F Singles Seeds'!B6 -> Ethan Phinney (CU) | F15: 8-4
C16: 9-7 | D16: Torres Jr. (TC)
D17: Loser Match #25 | G17: Singles F Draw Championship Match #86 - SV | H17: Jones (St)
A18: Campbell (BC) | B18: Match #64 - College | H18: Singles F Draw Champion
A19: Draw F Consolation Winner | E19: ='F Singles Seeds'!B3 -> Alexis Torres Jr. (TC) | H19: 8-5
A20: Walkover | D20: ='F Singles Seeds'!B8 -> Avery Martin (DU) | E20: Match #25 - College | F20: Martin (DU)
C21: Bye | E21: Martin (DU) | F21: 8-4
D22: ='F Singles Seeds'!B11 -> Bye | F22: Match #51 - College | G22: Martin (DU)
B23: Brown (TC) | E23: ='F Singles Seeds'!B4 -> Brody Rosenow (BC) | G23: 8-1
D24: Rosenow (BC) | E24: Match #26 - College | F24: Gonzalez (KW)
C25: Brown (TC) | D25: Match #38 - College | E25: ='F Singles Seeds'!B7 -> Noah Gonzalez (KW) | F25: 8-3
C26: 8-6 | D26: Brown (TC)
D27: Loser Match #24
G28: Phinney (CU)
G29: Loser Match #50
G30: 3rd Place Match Match #63 - College | H30: Phinney (CU)
H31: 8-5
G32: Gonzalez (KW)
G33: Loser Match #51

Sheet F Singles Seeds
A1: Seeds | B1: Players
A2: 1 | B2: Kanran Jones (St)
A3: 2 | B3: Alexis Torres Jr. (TC)
A4: 3 | B4: Brody Rosenow (BC)
A5: 4 | B5: Amare Campbell (BC)
A6: 5 | B6: Ethan Phinney (CU) | D6: Amare Campbell (BC)
A7: 6 | B7: Noah Gonzalez (KW) | D7: Ethan Phinney (CU)
A8: 7 | B8: Avery Martin (DU) | D8: Noah Gonzalez (KW)
A9: 8 | B9: Theo Jones (DU) | D9: Avery Martin (DU)
A10: 9 | B10: Hudson Brown (TC)
A11: 10 | B11: Bye

Sheet A Doubles Draw
A1: Bethany College Invitational Tournament September 8 & 9, 2023
B6: A Draw Doubles
D9: ='A Doubles Seeds'!B2 -> Ware/Sherer (KW)
C10: Fuentes/Adabia (CU) | D10: Match #3 - College | E10: Ware/Sherer (KW)
D11: ='A Doubles Seeds'!B9 -> Fuentes/Abadia (CU) | E11: 8-3
B12: Fuentes/Adabia (CU) | C12: Match #17 - College | E12: Match #15 - College | F12: Ware/Sherer (KW)
B13: 8-4 | D13: ='A Doubles Seeds'!B5 -> Fort / Osuga (TC) | F13: 8-2
C14: Infante/Hartman (DU) | D14: Match #4 - College | E14: Fort/Osuga (TC)
D15: ='A Doubles Seeds'!B6 -> Infante/Hartman(DU) | E15: 8-5
A16: Fuentes/Adabia (CU) | B16: Match #29 - College | F16: Doubles A Draw Championship Match #27 - College | G16: Ware/Sherer (KW)
A17: Draw A Consolation Winners | D17: ='A Doubles Seeds'!B3 -> Gutierrez/Purizaca (DU) | G17: Draw A Champions
C18: Gutierrez/Purizaca (DU) | D18: Match #5 - College | E18: Parades/Marin (St) | G18: 8-2
D19: ='A Doubles Seeds'!B8 -> Parades/Marin (St) | E19: 8-3
B20: Gutierrez/Purizaca (DU) | C20: Match #18 - College | E20: Match #16 - College | F20: Davalos/Hanson (KW)
B21: 8-2 | D21: ='A Doubles Seeds'!B4 -> Davalos/Hanson (KW) | F21: 8-4
C22: Hernandez/Lozano (BC) | D22: Match #6 - College | E22: Davalos/Hanson (KW)
D23: ='A Doubles Seeds'!B7 -> Hernandez/Lozano (BC) | E23: 8-1
B25: Infante/Hartman (DU) | F25: Fort/Osuga (TC)
B26: Loser Match #17 | F26: Loser Match #15
A27: Infante/Hartman (DU) | B27: Match #30 - College | F27: 3rd Place Match Match #28 - College | G27: Fort/Osuga (TC)
A28: 9-7 | G28: 9-8 (4)
B29: Hernandez/Lozano (BC) | F29: Parades/Marin (St)
B30: Loser Match #18 | F30: Loser Match #16

Sheet A Doubles Seeds
A1: Seeds | B1: Players
A2: 1 | B2: Ware/Sherer (KW)
A3: 2 | B3: Gutierrez/Purizaca (DU)
A4: 3 | B4: Davalos/Hanson (KW)
A5: 4 | B5: Fort / Osuga (TC)
A6: 5 | B6: Infante/Hartman(DU)
A7: 6 | B7: Hernandez/Lozano (BC)
A8: 7 | B8: Parades/Marin (St)
A9: 8 | B9: Fuentes/Abadia (CU)

Sheet B Doubles Draw
A1: Bethany College Invitational Tournament September 8 & 9, 2023
B6: B Draw Doubles
D9: ='B Doubles Seeds'!B2 -> Rodriguez/Bedroisian (CU)
C10: Bye | D10: Match #7 - College | E10: Rodriguez/Bedroisian (CU)
D11: ='B Doubles Seeds'!B9 -> Bye
B12: Phelps/Craft (KW) | C12: Match #21 - College | E12: Match #19 - College | F12: Rodriguez/Bedroisian (CU)
D13: ='B Doubles Seeds'!B5 -> Phelps/Craft (KW) | F13: 9-8(6)
C14: Phelps/Craft (KW) | D14: Match #8 - College | E14: Mumford/Rico Moran
D15: ='B Doubles Seeds'!B6 -> Mumford/Rico Moran (BC) | E15: 8-2
A16: Phelps/Craft (KW) | B16: Match #35 - College | F16: Doubles B Draw Championship Match #33 - College | G16: Felipoff/Hash (St)
A17: Draw B Consolation Winners | D17: ='B Doubles Seeds'!B3 -> Felipoff/Hash (St) | G17: Draw B Champions
A18: 8-3 | C18: Chan/Goertzen (TC) | D18: Match #9 - College | E18: Felipoff/Hash (St) | G18: 8-3
D19: ='B Doubles Seeds'!B8 -> Chan / Goertzen (TC) | E19: 9-8(5)
B20: Chan/Goertzen (TC) | C20: Match #22 - College | E20: Match #20 - College | F20: Felipoff/Hash (St)
D21: ='B Doubles Seeds'!B4 -> Beke/Dassel (DU) | F21: 8-5
C22: Hanson/Chavez (KW) | D22: Match #10 - College | E22: Beke/Dassel (DU)
D23: ='B Doubles Seeds'!B7 -> Hanson/Chavez (KW) | E23: 8-3
F25: Mumford/Rico Moran
F26: Loser Match #19
F27: 3rd Place Match Match #34 - College | G27: Mumford/Rico Moran (BC)
G28: 8-2
F29: Beke/Dassel (DU)
F30: Loser Match #20

Sheet B Doubles Seeds
A1: Seeds | B1: Players
A2: 1 | B2: Rodriguez/Bedroisian (CU)
A3: 2 | B3: Felipoff/Hash (St)
A4: 3 | B4: Beke/Dassel (DU)
A5: 4 | B5: Phelps/Craft (KW)
A6: 5 | B6: Mumford/Rico Moran (BC)
A7: 6 | B7: Hanson/Chavez (KW)
A8: 7 | B8: Chan / Goertzen (TC)
A9: 8 | B9: Bye

Sheet C Doubles Draw
A1: Bethany College Invitational Tournament September 8 & 9, 2023
C6: C Draw Doubles
E9: ='C Doubles Seeds'!B2 -> Krumm/Johnson (CU)
D10: ='C Doubles Seeds'!B9 -> Coria / Brown (TC) | E10: Match #13 - College | F10: Krumm/Johnson (CU)
C11: Coria/Brown (TC) | D11: Match #1 College | E11: Quintero/Blede (St) | F11: 8-3
D12: ='C Doubles Seeds'!B10 -> Quintero/Blede (St) | E12: 8-3 | F12: Match #25 - College | G12: Krumm/Johnson (CU)
B13: Coria/Brown (TC) | C13: Match #31 - College | E13: ='C Doubles Seeds'!B5 -> Munson/Rosenow (BC) | G13: 9-8(5)
B14: 9-8 (4) | D14: Munson/Rosenow (BC) | E14: Match #11 - College | F14: Kozlovsky/Harden (KW)
C15: Campbell (BC)/Jones (St) | D15: Match #23 - College | E15: ='C Doubles Seeds'!B6 -> Kozlovsky/Harden (KW) | F15: 8-4
C16: 8-5 | D16: Campbell (BC)/Jones (St)
D17: Loser Match #14 | G17: Doubles C Draw Championship Match #37 - College | H17: McMurry/Cechak (KW)
B18: Match #39 - College | H18: Draw C Champions
A19: Draw C Consolation Winners | E19: ='C Doubles Seeds'!B3 -> Sherman/Velasquez (KW) | H19: 8-6
D20: ='C Doubles Seeds'!B8 -> Bye | E20: Match #14 - College | F20: Sherman/Velasquez (KW)
C21: x | D21: Match #2 College | E21: Campbell (BC)/Jones (St) | F21: 8-3
D22: ='C Doubles Seeds'!B11 -> Campbell (BC)/Jones (St) | F22: Match #26 - College | G22: McMurry/Cechak (KW)
B23: Quintero/Blede (St) | C23: Match #32 - College | E23: ='C Doubles Seeds'!B4 -> McMurry/Cechak (KW) | G23: 8-3
D24: Martin/Grosvenor (DU) | E24: Match #12 - College | F24: McMurry/Cechak (KW)
C25: Quintero/Blede (St) | D25: Match #24 - College | E25: ='C Doubles Seeds'!B7 -> Martin/Grosvenor(DU) | F25: 8-3
C26: 8-6 | D26: Quintero/Blede (St)
D27: Loser Match #13
G28: Kozlovsky/Harden (KW)
G29: Loser Match #25
G30: 3rd Place Match Match #38 - College
G32: Sherman/Velasquez (KW)
G33: Loser Match #26

Sheet C Doubles Seeds
A1: Seeds | B1: Players
A2: 1 | B2: Krumm/Johnson (CU)
A3: 2 | B3: Sherman/Velasquez (KW)
A4: 3 | B4: McMurry/Cechak (KW)
A5: 4 | B5: Munson/Rosenow (BC)
A6: 5 | B6: Kozlovsky/Harden (KW)
A7: 6 | B7: Martin/Grosvenor(DU)
A8: 7 | B8: Bye
A9: 8 | B9: Coria / Brown (TC)
A10: 9 | B10: Quintero/Blede (St)
A11: 10 | B11: Campbell (BC)/Jones (St)

Sheet 12 Entry Draw Template
B1: Bethany College Invitational September 10, 2022
E6: Draw X
E9: Loser B | G9: ='B Singles Seeds'!B2 -> Raul Davalos (KW)
F10: ='B Singles Seeds'!B9 -> Ko Osuga (TC)
G11: (A)
F12: ='B Singles Seeds'!B10 -> 0
E13: Loser C | G13: ='B Singles Seeds'!B5 -> Santiago Abadia Arango (CU)
F14: ='B Singles Seeds'!B6 -> Daniel Lozano (BC)
G15: (D)
F16: ='B Singles Seeds'!B13 -> 0
I17: Draw X Championship
B18: Draw X Consolation Winner | J18: Draw X Champion
E19: Loser A | G19: ='B Singles Seeds'!B3 -> Jose Purizaca (DU)
F20: ='B Singles Seeds'!B8 -> Zeke Mumford (BC)
G21: (B)
F22: ='B Singles Seeds'!B11 -> 0
E23: Loser D | G23: ='B Singles Seeds'!B4 -> Pedro Felipoff( St)
F24: ='B Singles Seeds'!B7 -> Adam Hanson (KW)
G25: (C)
F26: ='B Singles Seeds'!B12 -> 0
I29: Loser Match
I30: 3rd Place Match
I33: Loser Match

Sheet 10 Entry Draw Template
B1: Bethany College Invitational September 10, 2022
D6: Draw X
F9: ='B Singles Seeds'!B2 -> Raul Davalos (KW)
E10: ='B Singles Seeds'!B9 -> Ko Osuga (TC)
F11: (A)
E12: ='B Singles Seeds'!B10 -> 0 | G12: Match X
F13: ='B Singles Seeds'!B5 -> Santiago Abadia Arango (CU)
F15: ='B Singles Seeds'!B6 -> Daniel Lozano (BC)
E16: Loser B
H17: Draw X Championship
I18: Draw X Champion
B19: Draw X Consolation Winner | F19: ='B Singles Seeds'!B3 -> Jose Purizaca (DU)
E20: ='B Singles Seeds'!B8 -> Zeke Mumford (BC)
F21: (B)
E22: ='B Singles Seeds'!B11 -> 0 | G22: Match Y
F23: ='B Singles Seeds'!B4 -> Pedro Felipoff( St)
F25: ='B Singles Seeds'!B7 -> Adam Hanson (KW)
E26: Loser A
H29: Loser Match X
H30: 3rd Place Match
H33: Loser Match Y

Sheet 8 Entry Draw Template
B1: Bethany College Invitational September 10, 2022
E6: Draw X
E9: ='A Singles Seeds'!B2 -> Bryce Ware (KW)
E11: ='A Singles Seeds'!B9 -> Hugo Fuentes Gomez (CU)
F12: Match X
E13: ='A Singles Seeds'!B5 -> Antonio Parades (St)
E15: ='A Singles Seeds'!B6 -> Federico Infante (DU)
G16: Draw X Championship
B17: Draw X Consolation Winner | E17: ='A Singles Seeds'!B3 -> Alex Sherer (KW) | H17: Draw X Champion
E19: ='A Singles Seeds'!B8 -> J.P.Fort (TC)
F20: Match Y
E21: ='A Singles Seeds'!B4 -> Esteban Gutierrez (DU)
E23: ='A Singles Seeds'!B7 -> Franco Hernandez (BC)
G26: Loser Match X
G27: 3rd Place Match
G30: Loser Match Y
